BEGIN:VCALENDAR
VERSION:2.0
PRODID:-//wp-events-plugin.com//7.2.3.1//EN
BEGIN:VEVENT
UID:62@gi.edu.co
DTSTART;TZID=America/Bogota:20240905T180000
DTEND;TZID=America/Bogota:20240905T200000
DTSTAMP:20240902T202133Z
URL:https://www.gi.edu.co/events/taller-de-psicologia-deportiva-a-padres-d
 e-hijos-deportistas/
SUMMARY:Sports Psychology Workshop with Parents / Taller Psicología del de
 porte con padres de familia
DESCRIPTION:
CATEGORIES:General
END:VEVENT
BEGIN:VTIMEZONE
TZID:America/Bogota
X-LIC-LOCATION:America/Bogota
BEGIN:STANDARD
DTSTART:20230906T180000
TZOFFSETFROM:-0500
TZOFFSETTO:-0500
TZNAME:-05
END:STANDARD
END:VTIMEZONE
END:VCALENDAR