BEGIN:VCALENDAR
VERSION:2.0
PRODID:-//wp-events-plugin.com//7.2.3.1//EN
BEGIN:VEVENT
UID:100@gi.edu.co
DTSTART;TZID=America/Bogota;VALUE=DATE:20241015
DTEND;TZID=America/Bogota;VALUE=DATE:20241016
DTSTAMP:20240926T174550Z
URL:https://www.gi.edu.co/events/support-for-the-colombia-national-team-ap
 oyo-a-la-seleccion-colombia/
SUMMARY:Support for the Colombia national team / Apoyo a la selección Colo
 mbia
DESCRIPTION:
CATEGORIES:General
END:VEVENT
BEGIN:VTIMEZONE
TZID:America/Bogota
X-LIC-LOCATION:America/Bogota
BEGIN:STANDARD
DTSTART:20231016T000000
TZOFFSETFROM:-0500
TZOFFSETTO:-0500
TZNAME:-05
END:STANDARD
END:VTIMEZONE
END:VCALENDAR