BEGIN:VCALENDAR
VERSION:2.0
PRODID:-//wp-events-plugin.com//7.2.3.1//EN
BEGIN:VEVENT
UID:133@gi.edu.co
DTSTART;TZID=America/Bogota:20250205T080000
DTEND;TZID=America/Bogota:20250205T100000
DTSTAMP:20250116T130220Z
URL:https://www.gi.edu.co/events/summer-camp-padres-8th-11th-campamento-de
 -verano-padres-8o-11o/
SUMMARY:Summer Camp padres 8th - 11th / Campamento de verano padres 8º - 1
 1º
DESCRIPTION:
CATEGORIES:Secondary
END:VEVENT
BEGIN:VTIMEZONE
TZID:America/Bogota
X-LIC-LOCATION:America/Bogota
BEGIN:STANDARD
DTSTART:20240206T080000
TZOFFSETFROM:-0500
TZOFFSETTO:-0500
TZNAME:-05
END:STANDARD
END:VTIMEZONE
END:VCALENDAR