BEGIN:VCALENDAR
VERSION:2.0
PRODID:-//wp-events-plugin.com//7.2.3.1//EN
BEGIN:VEVENT
UID:1@gi.edu.co
DTSTART;TZID=America/Bogota:20240110T060000
DTEND;TZID=America/Bogota:20240110T150000
DTSTAMP:20240207T150651Z
URL:https://www.gi.edu.co/events/students-return-extracurriculares-begin/
SUMMARY:Students Return - extracurriculares begin
DESCRIPTION:
CATEGORIES:General
END:VEVENT
BEGIN:VTIMEZONE
TZID:America/Bogota
X-LIC-LOCATION:America/Bogota
BEGIN:STANDARD
DTSTART:20230110T060000
TZOFFSETFROM:-0500
TZOFFSETTO:-0500
TZNAME:-05
END:STANDARD
END:VTIMEZONE
END:VCALENDAR