BEGIN:VCALENDAR
VERSION:2.0
PRODID:-//wp-events-plugin.com//7.2.3.1//EN
BEGIN:VEVENT
UID:68@gi.edu.co
DTSTART;TZID=America/Bogota:20240902T073000
DTEND;TZID=America/Bogota:20240902T093000
DTSTAMP:20240902T200419Z
URL:https://www.gi.edu.co/events/splash-learn-and-rap-kids-grades-1-2-tall
 er-para-padres-de-grados-1-2/
SUMMARY:Splash Learn and Rap kids grades 1 - 2 / Taller para padres de grad
 os 1 - 2
DESCRIPTION:
CATEGORIES:Elementary
END:VEVENT
BEGIN:VTIMEZONE
TZID:America/Bogota
X-LIC-LOCATION:America/Bogota
BEGIN:STANDARD
DTSTART:20230903T073000
TZOFFSETFROM:-0500
TZOFFSETTO:-0500
TZNAME:-05
END:STANDARD
END:VTIMEZONE
END:VCALENDAR