BEGIN:VCALENDAR
VERSION:2.0
PRODID:-//wp-events-plugin.com//7.2.3.1//EN
BEGIN:VEVENT
UID:37@gi.edu.co
DTSTART;TZID=America/Bogota:20250616T073000
DTEND;TZID=America/Bogota:20250620T123000
DTSTAMP:20240903T161800Z
URL:https://www.gi.edu.co/events/recuperations-recuperaciones/
SUMMARY:Recuperations / Recuperaciones
DESCRIPTION:
CATEGORIES:General
END:VEVENT
BEGIN:VTIMEZONE
TZID:America/Bogota
X-LIC-LOCATION:America/Bogota
BEGIN:STANDARD
DTSTART:20240616T073000
TZOFFSETFROM:-0500
TZOFFSETTO:-0500
TZNAME:-05
END:STANDARD
END:VTIMEZONE
END:VCALENDAR