BEGIN:VCALENDAR
VERSION:2.0
PRODID:-//wp-events-plugin.com//7.2.3.1//EN
BEGIN:VEVENT
UID:21@gi.edu.co
DTSTART;TZID=America/Bogota;VALUE=DATE:20241007
DTEND;TZID=America/Bogota;VALUE=DATE:20241012
DTSTAMP:20240902T211429Z
URL:https://www.gi.edu.co/events/october-break-semana-de-receso/
SUMMARY:October Break / Semana de receso
DESCRIPTION:
CATEGORIES:General
END:VEVENT
BEGIN:VTIMEZONE
TZID:America/Bogota
X-LIC-LOCATION:America/Bogota
BEGIN:STANDARD
DTSTART:20231008T000000
TZOFFSETFROM:-0500
TZOFFSETTO:-0500
TZNAME:-05
END:STANDARD
END:VTIMEZONE
END:VCALENDAR