BEGIN:VCALENDAR
VERSION:2.0
PRODID:-//wp-events-plugin.com//7.2.3.1//EN
BEGIN:VEVENT
UID:146@gi.edu.co
DTSTART;TZID=America/Bogota:20250210T074500
DTEND;TZID=America/Bogota:20250210T093000
DTSTAMP:20250116T133118Z
URL:https://www.gi.edu.co/events/k4-parent-workshop-taller-de-padres-k4/
SUMMARY:K4 Parent Workshop / Taller de padres K4
DESCRIPTION:
CATEGORIES:Preschool
END:VEVENT
BEGIN:VTIMEZONE
TZID:America/Bogota
X-LIC-LOCATION:America/Bogota
BEGIN:STANDARD
DTSTART:20240211T074500
TZOFFSETFROM:-0500
TZOFFSETTO:-0500
TZNAME:-05
END:STANDARD
END:VTIMEZONE
END:VCALENDAR