BEGIN:VCALENDAR
VERSION:2.0
PRODID:-//wp-events-plugin.com//7.2.3.1//EN
BEGIN:VEVENT
UID:34@gi.edu.co
DTSTART;TZID=America/Bogota;VALUE=DATE:20250602
DTEND;TZID=America/Bogota;VALUE=DATE:20250603
DTSTAMP:20240903T161143Z
URL:https://www.gi.edu.co/events/holiday-festivo-6/
SUMMARY:Holiday - Festivo
DESCRIPTION:
CATEGORIES:General
END:VEVENT
BEGIN:VTIMEZONE
TZID:America/Bogota
X-LIC-LOCATION:America/Bogota
BEGIN:STANDARD
DTSTART:20240602T000000
TZOFFSETFROM:-0500
TZOFFSETTO:-0500
TZNAME:-05
END:STANDARD
END:VTIMEZONE
END:VCALENDAR