BEGIN:VCALENDAR
VERSION:2.0
PRODID:-//wp-events-plugin.com//7.2.3.1//EN
BEGIN:VEVENT
UID:49@gi.edu.co
DTSTART;TZID=America/Bogota:20240919T080000
DTEND;TZID=America/Bogota:20240919T120000
DTSTAMP:20240902T204147Z
URL:https://www.gi.edu.co/events/feria-de-universidades/
SUMMARY:University fair grades 10-12 / Feria de universidades grados 10-12
DESCRIPTION:
CATEGORIES:Secondary
END:VEVENT
BEGIN:VTIMEZONE
TZID:America/Bogota
X-LIC-LOCATION:America/Bogota
BEGIN:STANDARD
DTSTART:20230920T080000
TZOFFSETFROM:-0500
TZOFFSETTO:-0500
TZNAME:-05
END:STANDARD
END:VTIMEZONE
END:VCALENDAR