BEGIN:VCALENDAR
VERSION:2.0
PRODID:-//wp-events-plugin.com//7.2.3.1//EN
BEGIN:VEVENT
UID:161@gi.edu.co
DTSTART;TZID=America/Bogota;VALUE=DATE:20250425
DTEND;TZID=America/Bogota;VALUE=DATE:20250426
DTSTAMP:20250409T164804Z
URL:https://www.gi.edu.co/events/childrens-day-dia-del-nino/
SUMMARY:Children's Day / Día del niño
DESCRIPTION:
CATEGORIES:General
END:VEVENT
BEGIN:VTIMEZONE
TZID:America/Bogota
X-LIC-LOCATION:America/Bogota
BEGIN:STANDARD
DTSTART:20240425T000000
TZOFFSETFROM:-0500
TZOFFSETTO:-0500
TZNAME:-05
END:STANDARD
END:VTIMEZONE
END:VCALENDAR