BEGIN:VCALENDAR
VERSION:2.0
PRODID:-//wp-events-plugin.com//7.2.3.1//EN
BEGIN:VEVENT
UID:80@gi.edu.co
DTSTART;TZID=America/Bogota;VALUE=DATE:20250311
DTEND;TZID=America/Bogota;VALUE=DATE:20250316
DTSTAMP:20240903T201646Z
URL:https://www.gi.edu.co/events/big-games-britanico-school-barranquilla-j
 uego-big-en-el-colegio-britanico-barranquilla/
SUMMARY:Big Games Británico School (Barranquilla) / Big Games en el colegi
 o Británico (Barranquilla)
DESCRIPTION:
CATEGORIES:Sports
END:VEVENT
BEGIN:VTIMEZONE
TZID:America/Bogota
X-LIC-LOCATION:America/Bogota
BEGIN:STANDARD
DTSTART:20240311T000000
TZOFFSETFROM:-0500
TZOFFSETTO:-0500
TZNAME:-05
END:STANDARD
END:VTIMEZONE
END:VCALENDAR