BEGIN:VCALENDAR
VERSION:2.0
PRODID:-//wp-events-plugin.com//7.2.3.1//EN
BEGIN:VEVENT
UID:85@gi.edu.co
DTSTART;TZID=America/Bogota;VALUE=DATE:20241005
DTEND;TZID=America/Bogota;VALUE=DATE:20241006
DTSTAMP:20240910T200337Z
URL:https://www.gi.edu.co/events/12th-grade-sat-sat-grado-12/
SUMMARY:12th-grade SAT / SAT grado 12
DESCRIPTION:
CATEGORIES:Secondary
END:VEVENT
BEGIN:VTIMEZONE
TZID:America/Bogota
X-LIC-LOCATION:America/Bogota
BEGIN:STANDARD
DTSTART:20231006T000000
TZOFFSETFROM:-0500
TZOFFSETTO:-0500
TZNAME:-05
END:STANDARD
END:VTIMEZONE
END:VCALENDAR